BEGIN:VCALENDAR
VERSION:2.0
PRODID:-//Squarespace Inc/Squarespace 6//v6//EN
BEGIN:VEVENT
UID:5872db27440243c6bcd4b626@squarespace.com
DTSTAMP:20170316T071808Z
DTSTART:20170505T230000Z
DTEND:20170506T010000Z
SUMMARY:Jam Session 5
END:VEVENT
END:VCALENDAR
