BEGIN:VCALENDAR
VERSION:2.0
PRODID:-//Squarespace Inc/Squarespace 6//v6//EN
BEGIN:VEVENT
UID:5880a8088419c2ec7ac14803@squarespace.com
DTSTAMP:20170119T115058Z
DTSTART:20170531T070000Z
DTEND:20170531T083000Z
SUMMARY:Big Band Rehearsal 6
END:VEVENT
END:VCALENDAR
