BEGIN:VCALENDAR
VERSION:2.0
PRODID:-//Squarespace Inc/Squarespace 6//v6//EN
BEGIN:VEVENT
UID:5880a78e9f74565b897c9c12@squarespace.com
DTSTAMP:20170119T114850Z
DTSTART:20170503T070000Z
DTEND:20170503T083000Z
SUMMARY:Big Band Rehearsal 3
END:VEVENT
END:VCALENDAR
