BEGIN:VCALENDAR
VERSION:2.0
PRODID:-//Squarespace Inc/Squarespace 6//v6//EN
BEGIN:VEVENT
UID:5872db4f6a49630b7b2eb6c5@squarespace.com
DTSTAMP:20170316T072041Z
DTSTART:20170519T230000Z
DTEND:20170520T010000Z
SUMMARY:Jam Session 6
END:VEVENT
END:VCALENDAR
