BEGIN:VCALENDAR
VERSION:2.0
PRODID:-//Squarespace Inc/Squarespace 6//v6//EN
BEGIN:VEVENT
UID:5880a7ad725e25792a4a3563@squarespace.com
DTSTAMP:20170119T115417Z
DTSTART:20170510T070000Z
DTEND:20170510T083000Z
SUMMARY:Big Band Rehearsal 4
END:VEVENT
END:VCALENDAR
