BEGIN:VCALENDAR
VERSION:2.0
PRODID:-//Squarespace Inc/Squarespace 6//v6//EN
BEGIN:VEVENT
UID:5872dac06b8f5bb8e969e271@squarespace.com
DTSTAMP:20170316T054428Z
DTSTART:20170407T230000Z
DTEND:20170408T010000Z
SUMMARY:Jam Session 3
END:VEVENT
END:VCALENDAR
