BEGIN:VCALENDAR
VERSION:2.0
PRODID:-//Squarespace Inc/Squarespace 6//v6//EN
BEGIN:VEVENT
UID:5880a7721b10e374ede1e501@squarespace.com
DTSTAMP:20170119T114820Z
DTSTART:20170426T070000Z
DTEND:20170426T083000Z
SUMMARY:Big Band Rehearsal 2
END:VEVENT
END:VCALENDAR
