BEGIN:VCALENDAR
VERSION:2.0
PRODID:-//Squarespace Inc/Squarespace 6//v6//EN
BEGIN:VEVENT
UID:5872db1120099ec947d675cd@squarespace.com
DTSTAMP:20170316T071429Z
DTSTART:20170421T230000Z
DTEND:20170422T010000Z
SUMMARY:Jam Session 4
END:VEVENT
END:VCALENDAR
