BEGIN:VCALENDAR
VERSION:2.0
PRODID:-//Squarespace Inc/Squarespace 6//v6//EN
BEGIN:VEVENT
UID:5880a73837c581cd7ce3c71c@squarespace.com
DTSTAMP:20170119T114750Z
DTSTART:20170419T070000Z
DTEND:20170419T083000Z
SUMMARY:Big Band Rehearsal 1
END:VEVENT
END:VCALENDAR
