BEGIN:VCALENDAR
VERSION:2.0
PRODID:-//Squarespace Inc/Squarespace 6//v6//EN
BEGIN:VEVENT
UID:5872da575016e169c249da50@squarespace.com
DTSTAMP:20170118T112615Z
DTSTART:20170310T230000Z
DTEND:20170311T010000Z
SUMMARY:Jam Session 1
END:VEVENT
END:VCALENDAR
