BEGIN:VCALENDAR
VERSION:2.0
PRODID:-//Squarespace Inc/Squarespace 6//v6//EN
BEGIN:VEVENT
UID:587f50e0440243130a3a07ce@squarespace.com
DTSTAMP:20170118T112929Z
DTSTART:20170301T060000Z
DTEND:20170301T080000Z
SUMMARY:Talkin' Jazz Sign-Up Afternoon
END:VEVENT
END:VCALENDAR
