BEGIN:VCALENDAR
VERSION:2.0
PRODID:-//Squarespace Inc/Squarespace 6//v6//EN
BEGIN:VEVENT
UID:5872dd6b1b631b5ed9c981b9@squarespace.com
DTSTAMP:20170118T112528Z
DTSTART:20171027T230000Z
DTEND:20171028T020000Z
SUMMARY:Final Jam Session and Breakfast
END:VEVENT
END:VCALENDAR
