BEGIN:VCALENDAR
VERSION:2.0
PRODID:-//Squarespace Inc/Squarespace 6//v6//EN
BEGIN:VEVENT
UID:5872dd3717bffcf9189de6dc@squarespace.com
DTSTAMP:20170109T004623Z
DTSTART:20171013T230000Z
DTEND:20171014T010000Z
SUMMARY:Jam Session 14
END:VEVENT
END:VCALENDAR
