BEGIN:VCALENDAR
VERSION:2.0
PRODID:-//Squarespace Inc/Squarespace 6//v6//EN
BEGIN:VEVENT
UID:5c5d0dca7817f7b5b95a92c4@squarespace.com
DTSTAMP:20190208T050420Z
DTSTART:20190522T070000Z
DTEND:20190522T090000Z
SUMMARY:Big Band rehearsal
END:VEVENT
END:VCALENDAR
