BEGIN:VCALENDAR
VERSION:2.0
PRODID:-//Squarespace Inc/Squarespace 6//v6//EN
BEGIN:VEVENT
UID:5a5c19ad24a694da4ab4c148@squarespace.com
DTSTAMP:20180115T060711Z
DTSTART:20180720T230000Z
DTEND:20180721T010000Z
SUMMARY:Jam Session Ten
GEO:-27.466216;153.034053
LOCATION:The Brisbane Jazz Club
END:VEVENT
END:VCALENDAR
