BEGIN:VCALENDAR
VERSION:2.0
PRODID:-//Squarespace Inc/Squarespace 6//v6//EN
BEGIN:VEVENT
UID:5a5c1a7e9140b796c4f775e2@squarespace.com
DTSTAMP:20180115T060722Z
DTSTART:20180817T230000Z
DTEND:20180818T010000Z
SUMMARY:Jam Session Twelve
GEO:-27.466216;153.034053
LOCATION:The Brisbane Jazz Club
END:VEVENT
END:VCALENDAR
