BEGIN:VCALENDAR
VERSION:2.0
PRODID:-//Squarespace Inc/Squarespace 6//v6//EN
BEGIN:VEVENT
UID:5a5c1ac671c10bca13362376@squarespace.com
DTSTAMP:20180115T060740Z
DTSTART:20180914T230000Z
DTEND:20180915T010000Z
SUMMARY:Jam Session Fourteen
GEO:-27.466216;153.034053
LOCATION:The Brisbane Jazz Club
END:VEVENT
END:VCALENDAR
